BEGIN:VCALENDAR
VERSION:2.0
PRODID:-//Sweet Meadow Farm - Animal Food &amp; Hay, Childrens Programs and Horseback Riding - ECPv6.15.17.1//NONSGML v1.0//EN
CALSCALE:GREGORIAN
METHOD:PUBLISH
X-WR-CALNAME:Sweet Meadow Farm - Animal Food &amp; Hay, Childrens Programs and Horseback Riding
X-ORIGINAL-URL:https://sweetmeadowfarm.com
X-WR-CALDESC:Events for Sweet Meadow Farm - Animal Food &amp; Hay, Childrens Programs and Horseback Riding
REFRESH-INTERVAL;VALUE=DURATION:PT1H
X-Robots-Tag:noindex
X-PUBLISHED-TTL:PT1H
BEGIN:VTIMEZONE
TZID:UTC
BEGIN:STANDARD
TZOFFSETFROM:+0000
TZOFFSETTO:+0000
TZNAME:UTC
DTSTART:20240101T000000
END:STANDARD
END:VTIMEZONE
BEGIN:VEVENT
DTSTART;TZID=UTC:20250904T180000
DTEND;TZID=UTC:20250904T190000
DTSTAMP:20260424T051100
CREATED:20250731T172307Z
LAST-MODIFIED:20250731T172307Z
UID:6766-1757008800-1757012400@sweetmeadowfarm.com
SUMMARY:Fall 2025 Equine Program Open House
DESCRIPTION:We are delighted to invite you to our Fall 2025 Riding Program Open House\, taking place on Thursday\, September 4th from 6:00–7:00 PM at our Animal Science Barn. \nThis special event is ONLY open to all students enrolled in our riding programs for the upcoming semester\, including those in our lesson program and after-school programs such as Half-Day Riding and Saddle Club. \nDuring the open house\, you’ll have the opportunity to: \n\nMeet our dedicated riding instructors and program team\n\nExplore our curriculum\, including lesson structure\, riding goals\, and progress tracking\n\nLearn about proper riding gear and helmet fitting—bring your helmet for a personalized fitting!\n\nGet to know our incredible herd of 20+ lesson horses and discover their unique roles in our program\n\nVisit with some of the other animals on the farm\n\n\nAsk questions\, connect with other families\, and get excited for a season of growth and learning in the saddle!
URL:https://sweetmeadowfarm.com/event/fall-2025-equine-program-open-house/
LOCATION:Sweet Meadow Farm
END:VEVENT
END:VCALENDAR