BEGIN:VCALENDAR
VERSION:2.0
PRODID:-//Sweet Meadow Farm - Animal Food &amp; Hay, Childrens Programs and Horseback Riding - ECPv6.15.17.1//NONSGML v1.0//EN
CALSCALE:GREGORIAN
METHOD:PUBLISH
X-ORIGINAL-URL:https://sweetmeadowfarm.com
X-WR-CALDESC:Events for Sweet Meadow Farm - Animal Food &amp; Hay, Childrens Programs and Horseback Riding
REFRESH-INTERVAL;VALUE=DURATION:PT1H
X-Robots-Tag:noindex
X-PUBLISHED-TTL:PT1H
BEGIN:VTIMEZONE
TZID:UTC
BEGIN:STANDARD
TZOFFSETFROM:+0000
TZOFFSETTO:+0000
TZNAME:UTC
DTSTART:20240101T000000
END:STANDARD
END:VTIMEZONE
BEGIN:VEVENT
DTSTART;TZID=UTC:20250916T150000
DTEND;TZID=UTC:20251125T154500
DTSTAMP:20260424T031920
CREATED:20250911T184326Z
LAST-MODIFIED:20250911T184326Z
UID:6889-1758034800-1764085500@sweetmeadowfarm.com
SUMMARY:Fall 2025 Mini Riders
DESCRIPTION:For more information about Mini Riders please view our “Mini Riders” page under the Animals & Riding Programs tab!
URL:https://sweetmeadowfarm.com/event/fall-2025-mini-riders/
LOCATION:Sweet Meadow Farm
END:VEVENT
BEGIN:VEVENT
DTSTART;TZID=UTC:20251024T183000
DTEND;TZID=UTC:20251024T203000
DTSTAMP:20260424T031920
CREATED:20250905T192518Z
LAST-MODIFIED:20251020T144035Z
UID:6867-1761330600-1761337800@sweetmeadowfarm.com
SUMMARY:Pumpkin Spice Paint & Sip
DESCRIPTION:Join us for a beginner friendly Paint & Sip night! BYOB drinks and snacks\, and we will provide the kittens\, fun and painting supplies! Paint our “muse” cat\, Pumpkin Spice\, or paint your own cat! Meet Pumpkin Spice’s four kittens\, and our other animals!
URL:https://sweetmeadowfarm.com/event/pumpkin-spice-paint-sip/
LOCATION:Sweet Meadow Farm
END:VEVENT
END:VCALENDAR