BEGIN:VCALENDAR
VERSION:2.0
PRODID:-//Sweet Meadow Farm - Animal Food &amp; Hay, Childrens Programs and Horseback Riding - ECPv6.15.17.1//NONSGML v1.0//EN
CALSCALE:GREGORIAN
METHOD:PUBLISH
X-ORIGINAL-URL:https://sweetmeadowfarm.com
X-WR-CALDESC:Events for Sweet Meadow Farm - Animal Food &amp; Hay, Childrens Programs and Horseback Riding
REFRESH-INTERVAL;VALUE=DURATION:PT1H
X-Robots-Tag:noindex
X-PUBLISHED-TTL:PT1H
BEGIN:VTIMEZONE
TZID:UTC
BEGIN:STANDARD
TZOFFSETFROM:+0000
TZOFFSETTO:+0000
TZNAME:UTC
DTSTART:20250101T000000
END:STANDARD
END:VTIMEZONE
BEGIN:VEVENT
DTSTART;TZID=UTC:20260109T180000
DTEND;TZID=UTC:20260109T200000
DTSTAMP:20260423T221751
CREATED:20251229T193549Z
LAST-MODIFIED:20260105T154217Z
UID:7066-1767981600-1767988800@sweetmeadowfarm.com
SUMMARY:Adult's Night Out
DESCRIPTION:Join us for the best night out ever! This night is for ADULT”S ONLY to come enjoy the farm and meet the animals! Want to sip wine and meet the wallaby? Have a beer and brush a baby mini horse? Charcuterie with a chameleon? You can do that all at our Adult’s Night Out!\nBYOB snacks and drinks! \nClick HERE to register! Please note; our ticketing software\, JackRabbit is designed for parents and students! You will need to sign yourself up as a student to enroll!
URL:https://sweetmeadowfarm.com/event/adults-night-out-10/
LOCATION:Sweet Meadow Farm
END:VEVENT
END:VCALENDAR