BEGIN:VCALENDAR
VERSION:2.0
PRODID:-//Sweet Meadow Farm - Animal Food &amp; Hay, Childrens Programs and Horseback Riding - ECPv6.15.17.1//NONSGML v1.0//EN
CALSCALE:GREGORIAN
METHOD:PUBLISH
X-ORIGINAL-URL:https://sweetmeadowfarm.com
X-WR-CALDESC:Events for Sweet Meadow Farm - Animal Food &amp; Hay, Childrens Programs and Horseback Riding
REFRESH-INTERVAL;VALUE=DURATION:PT1H
X-Robots-Tag:noindex
X-PUBLISHED-TTL:PT1H
BEGIN:VTIMEZONE
TZID:UTC
BEGIN:STANDARD
TZOFFSETFROM:+0000
TZOFFSETTO:+0000
TZNAME:UTC
DTSTART:20250101T000000
END:STANDARD
END:VTIMEZONE
BEGIN:VEVENT
DTSTART;TZID=UTC:20260213T183000
DTEND;TZID=UTC:20260213T200000
DTSTAMP:20260423T203649
CREATED:20260129T200843Z
LAST-MODIFIED:20260129T200843Z
UID:7124-1771007400-1771012800@sweetmeadowfarm.com
SUMMARY:Galentine's Evening
DESCRIPTION:Beads and Besties in the barn. What more could you need?! Come celebrate Galentine’s at Sweet Meadow Farm! Have wine with a wallaby\, charcuterie with a chameleon\, and a gossip session next to an emu. \nPlan to bring your own drinks\, and snacks! This evening is for 21+ only.
URL:https://sweetmeadowfarm.com/event/galentines-evening/
LOCATION:Sweet Meadow Farm
END:VEVENT
END:VCALENDAR