BEGIN:VCALENDAR
VERSION:2.0
PRODID:-//Sweet Meadow Farm - Animal Food &amp; Hay, Childrens Programs and Horseback Riding - ECPv6.15.17.1//NONSGML v1.0//EN
CALSCALE:GREGORIAN
METHOD:PUBLISH
X-ORIGINAL-URL:https://sweetmeadowfarm.com
X-WR-CALDESC:Events for Sweet Meadow Farm - Animal Food &amp; Hay, Childrens Programs and Horseback Riding
REFRESH-INTERVAL;VALUE=DURATION:PT1H
X-Robots-Tag:noindex
X-PUBLISHED-TTL:PT1H
BEGIN:VTIMEZONE
TZID:UTC
BEGIN:STANDARD
TZOFFSETFROM:+0000
TZOFFSETTO:+0000
TZNAME:UTC
DTSTART:20230101T000000
END:STANDARD
END:VTIMEZONE
BEGIN:VEVENT
DTSTART;TZID=UTC:20251107T183000
DTEND;TZID=UTC:20251107T200000
DTSTAMP:20260423T222017
CREATED:20250915T162729Z
LAST-MODIFIED:20250915T162729Z
UID:6901-1762540200-1762545600@sweetmeadowfarm.com
SUMMARY:Fall Adult's Night Out
DESCRIPTION:Fall Adult’s Night Out at Sweet Meadow Farm is featuring our baby mini horse\, kittens\, and more! Bring your friends\, drinks\, some snacks\, and come enjoy a relaxing night on the farm socializing and meeting the animals! \nFal
URL:https://sweetmeadowfarm.com/event/fall-adults-night-out-2/
LOCATION:Sweet Meadow Farm
CATEGORIES:Date Night
END:VEVENT
BEGIN:VEVENT
DTSTART;TZID=UTC:20250404T183000
DTEND;TZID=UTC:20250404T200000
DTSTAMP:20260423T222017
CREATED:20250214T181943Z
LAST-MODIFIED:20250224T222222Z
UID:6618-1743791400-1743796800@sweetmeadowfarm.com
SUMMARY:Adult's Night Out
DESCRIPTION:Unwind and recharge at Sweet Meadow Farm for a night out with no kids! Activities include; baby animal visits\, decorating mini horses\, meeting a wallaby\, emu\, chameleon and more! We have over fifty different animals for you to meet at the farm. \nWe also will have cornhole\, giant jenga\, and giant connect four in our outdoor and indoor lounge areas. Bring your friends\, food\, drinks\, and come for a good time! \nBYOB snacks and drinks\, alcohol is permitted we just ask for no glass bottles\n21+ yrs old is required to attend\nA minimum of six people is required to run the event\nDue to being an indoor facility we plan to host the event rain or shine
URL:https://sweetmeadowfarm.com/event/adults-night-out-5/
LOCATION:Sweet Meadow Farm
CATEGORIES:Date Night
END:VEVENT
BEGIN:VEVENT
DTSTART;TZID=UTC:20250124T183000
DTEND;TZID=UTC:20250124T200000
DTSTAMP:20260423T222017
CREATED:20250106T215131Z
LAST-MODIFIED:20250106T215441Z
UID:6528-1737743400-1737748800@sweetmeadowfarm.com
SUMMARY:Adult's Night Out
DESCRIPTION:
URL:https://sweetmeadowfarm.com/event/adults-night-out-3/
LOCATION:Sweet Meadow Farm
CATEGORIES:Date Night
END:VEVENT
BEGIN:VEVENT
DTSTART;TZID=UTC:20241108T183000
DTEND;TZID=UTC:20241108T200000
DTSTAMP:20260423T222017
CREATED:20241030T201600Z
LAST-MODIFIED:20241030T201933Z
UID:6215-1731090600-1731096000@sweetmeadowfarm.com
SUMMARY:Adult's Night Out
DESCRIPTION:Register Here!
URL:https://sweetmeadowfarm.com/event/adults-night-out-2/
LOCATION:Sweet Meadow Farm
CATEGORIES:Date Night
END:VEVENT
BEGIN:VEVENT
DTSTART;TZID=UTC:20240315T183000
DTEND;TZID=UTC:20240315T200000
DTSTAMP:20260423T222017
CREATED:20240228T184234Z
LAST-MODIFIED:20240301T221658Z
UID:5604-1710527400-1710532800@sweetmeadowfarm.com
SUMMARY:Date Night at Sweet Meadow
DESCRIPTION:  \nRegister here!
URL:https://sweetmeadowfarm.com/event/date-night-at-sweet-meadow/
LOCATION:Sweet Meadow Farm
CATEGORIES:Date Night
END:VEVENT
END:VCALENDAR