BEGIN:VCALENDAR
VERSION:2.0
PRODID:-//Sweet Meadow Farm - Animal Food &amp; Hay, Childrens Programs and Horseback Riding - ECPv6.15.17.1//NONSGML v1.0//EN
CALSCALE:GREGORIAN
METHOD:PUBLISH
X-ORIGINAL-URL:https://sweetmeadowfarm.com
X-WR-CALDESC:Events for Sweet Meadow Farm - Animal Food &amp; Hay, Childrens Programs and Horseback Riding
REFRESH-INTERVAL;VALUE=DURATION:PT1H
X-Robots-Tag:noindex
X-PUBLISHED-TTL:PT1H
BEGIN:VTIMEZONE
TZID:UTC
BEGIN:STANDARD
TZOFFSETFROM:+0000
TZOFFSETTO:+0000
TZNAME:UTC
DTSTART:20250101T000000
END:STANDARD
END:VTIMEZONE
BEGIN:VEVENT
DTSTART;TZID=UTC:20260403T153000
DTEND;TZID=UTC:20260403T170000
DTSTAMP:20260423T203209
CREATED:20260323T181101Z
LAST-MODIFIED:20260330T175850Z
UID:7178-1775230200-1775235600@sweetmeadowfarm.com
SUMMARY:Bunny Day 2026
DESCRIPTION:Join us for Bunny Day 2026! Meet the Easter Bunny\, and take a photo at our photo wall! Interact with live bunnies\, baby chicks and have a pony ride. Each tickets includes a half hour visit to the farm and one pony ride! \n$35/child\nPlease arrive at the timeslot you registered for. Each timeslot group will begin in our Birthday Barn by our playground to meet the Easter Bunny\, meet the animals\, and then will finish with Pony Rides in our Indoor Riding Arena! \nBunny Day is rain or shine! The Easter Bunny and animals will be in our Birthday Party Barn\, and our pony rides will be in the indoor riding arena. The only outdoor portion will be the walk from the Birthday Barn to the Indoor Arena! \nREGISTER HERE FOR YOUR TIMESLOT! LIMITED SPACES AVAILABLE!  \nClick the time to access the registration form for that slot! \n3:30pm-4pm \n4pm-4:30pm \n4:30pm-5pm \n5pm-5:30pm
URL:https://sweetmeadowfarm.com/event/bunny-day-2026/
LOCATION:Sweet Meadow Farm
END:VEVENT
BEGIN:VEVENT
DTSTART;TZID=UTC:20260417T183000
DTEND;TZID=UTC:20260417T200000
DTSTAMP:20260423T203209
CREATED:20260411T144255Z
LAST-MODIFIED:20260411T144255Z
UID:7192-1776450600-1776456000@sweetmeadowfarm.com
SUMMARY:Adult's Night Out
DESCRIPTION:Join us for the best night out ever! This night is for ADULT”S ONLY to come enjoy the farm and meet the animals! Want to sip wine and meet the wallaby? Have a beer and brush a baby mini horse? Charcuterie with a chameleon? You can do that all at our Adult’s Night Out!\nBYOB snacks and drinks! \nClick HERE to register! Please note; our ticketing software\, JackRabbit is designed for parents and students! You will need to sign yourself up as a student to enroll!
URL:https://sweetmeadowfarm.com/event/adults-night-out-11/
LOCATION:Sweet Meadow Farm
END:VEVENT
END:VCALENDAR