BEGIN:VCALENDAR
VERSION:2.0
PRODID:-//Sweet Meadow Farm - Animal Food &amp; Hay, Childrens Programs and Horseback Riding - ECPv6.15.17.1//NONSGML v1.0//EN
CALSCALE:GREGORIAN
METHOD:PUBLISH
X-WR-CALNAME:Sweet Meadow Farm - Animal Food &amp; Hay, Childrens Programs and Horseback Riding
X-ORIGINAL-URL:https://sweetmeadowfarm.com
X-WR-CALDESC:Events for Sweet Meadow Farm - Animal Food &amp; Hay, Childrens Programs and Horseback Riding
REFRESH-INTERVAL;VALUE=DURATION:PT1H
X-Robots-Tag:noindex
X-PUBLISHED-TTL:PT1H
BEGIN:VTIMEZONE
TZID:UTC
BEGIN:STANDARD
TZOFFSETFROM:+0000
TZOFFSETTO:+0000
TZNAME:UTC
DTSTART:20230101T000000
END:STANDARD
END:VTIMEZONE
BEGIN:VEVENT
DTSTART;TZID=UTC:20250307T183000
DTEND;TZID=UTC:20250307T200000
DTSTAMP:20260423T204310
CREATED:20250214T181630Z
LAST-MODIFIED:20250224T222133Z
UID:6615-1741372200-1741377600@sweetmeadowfarm.com
SUMMARY:Adult's Night Out
DESCRIPTION:Unwind and recharge at Sweet Meadow Farm for a night out with no kids! Activities include; baby animal visits\, decorating mini horses\, meeting a wallaby\, emu\, chameleon and more! We have over fifty different animals for you to meet at the farm. \nWe also will have cornhole\, giant jenga\, and giant connect four in our outdoor and indoor lounge areas. Bring your friends\, food\, drinks\, and come for a good time! \nBYOB snacks and drinks\, alcohol is permitted we just ask for no glass bottles\n21+ yrs old is required to attend\nA minimum of six people is required to run the event\nDue to being an indoor facility we plan to host the event rain or shine
URL:https://sweetmeadowfarm.com/event/adults-night-out-4/
LOCATION:Sweet Meadow Farm
END:VEVENT
BEGIN:VEVENT
DTSTART;TZID=UTC:20250216T160000
DTEND;TZID=UTC:20250216T164500
DTSTAMP:20260423T204310
CREATED:20250203T200527Z
LAST-MODIFIED:20250203T232047Z
UID:6603-1739721600-1739724300@sweetmeadowfarm.com
SUMMARY:Weekend Speical Mini Riders 2/16 4pm-4:45pm
DESCRIPTION:
URL:https://sweetmeadowfarm.com/event/weekened-speical-mini-riders-2-16-4pm-445pm/
LOCATION:Sweet Meadow Farm
END:VEVENT
BEGIN:VEVENT
DTSTART;TZID=UTC:20250216T150000
DTEND;TZID=UTC:20250216T154500
DTSTAMP:20260423T204310
CREATED:20250203T200231Z
LAST-MODIFIED:20250203T200252Z
UID:6600-1739718000-1739720700@sweetmeadowfarm.com
SUMMARY:Weekend Special Mini Riders 12/16 3pm-3:45pm
DESCRIPTION:
URL:https://sweetmeadowfarm.com/event/weekend-special-mini-riders-12-16-3pm-345pm/
LOCATION:Sweet Meadow Farm
END:VEVENT
BEGIN:VEVENT
DTSTART;TZID=UTC:20250215T120000
DTEND;TZID=UTC:20250215T124500
DTSTAMP:20260423T204310
CREATED:20250203T200054Z
LAST-MODIFIED:20250203T200054Z
UID:6596-1739620800-1739623500@sweetmeadowfarm.com
SUMMARY:Weekend Special Mini Riders 2/15 12pm-12:45pm
DESCRIPTION:
URL:https://sweetmeadowfarm.com/event/weekend-special-mini-riders-2-15-12pm-1245pm/
LOCATION:Sweet Meadow Farm
END:VEVENT
BEGIN:VEVENT
DTSTART;TZID=UTC:20250214T183000
DTEND;TZID=UTC:20250214T200000
DTSTAMP:20260423T204310
CREATED:20250106T225222Z
LAST-MODIFIED:20250106T225222Z
UID:6540-1739557800-1739563200@sweetmeadowfarm.com
SUMMARY:Valentine's Date Night at Sweet Meadow
DESCRIPTION:
URL:https://sweetmeadowfarm.com/event/valentines-date-night-at-sweet-meadow/
LOCATION:Sweet Meadow Farm
END:VEVENT
BEGIN:VEVENT
DTSTART;TZID=UTC:20250208T120000
DTEND;TZID=UTC:20250208T124500
DTSTAMP:20260423T204310
CREATED:20250203T195822Z
LAST-MODIFIED:20250203T195822Z
UID:6592-1739016000-1739018700@sweetmeadowfarm.com
SUMMARY:Weekend Special Mini Riders 2/8 12pm-12:45pm
DESCRIPTION: 
URL:https://sweetmeadowfarm.com/event/weekend-special-mini-riders-2-8-12pm-1245pm/
LOCATION:Sweet Meadow Farm
END:VEVENT
BEGIN:VEVENT
DTSTART;TZID=UTC:20250207T183000
DTEND;TZID=UTC:20250207T200000
DTSTAMP:20260423T204310
CREATED:20250109T225215Z
LAST-MODIFIED:20250113T180831Z
UID:6560-1738953000-1738958400@sweetmeadowfarm.com
SUMMARY:Galentine's Paint & Sip
DESCRIPTION:Grab your girlfriends and join us for a Galentine’s Paint & Sip at Sweet Meadow! Meet over 50+ animals and paint a Valentine’s cat inspired by one of our kittens! Class will be led by Patty\, the owner of Sweet Meadow\, and an expert painter who teaches all of our summer camp painting lessons! We will be hosting class in our heated Animal Science Barn!
URL:https://sweetmeadowfarm.com/event/galentines-paint-sip/
CATEGORIES:Holiday Events
END:VEVENT
BEGIN:VEVENT
DTSTART;TZID=UTC:20250124T183000
DTEND;TZID=UTC:20250124T200000
DTSTAMP:20260423T204310
CREATED:20250106T215131Z
LAST-MODIFIED:20250106T215441Z
UID:6528-1737743400-1737748800@sweetmeadowfarm.com
SUMMARY:Adult's Night Out
DESCRIPTION:
URL:https://sweetmeadowfarm.com/event/adults-night-out-3/
LOCATION:Sweet Meadow Farm
CATEGORIES:Date Night
END:VEVENT
BEGIN:VEVENT
DTSTART;TZID=UTC:20250117T160000
DTEND;TZID=UTC:20250117T164500
DTSTAMP:20260423T204310
CREATED:20250113T181310Z
LAST-MODIFIED:20250116T213957Z
UID:6565-1737129600-1737132300@sweetmeadowfarm.com
SUMMARY:Friday Fun Mini Riders 1/17/25
DESCRIPTION:Join us for this special edition Mini Riders on Friday\, January 17th from 3pm-3:45pm or 4pm-4:45pm! \nUPDATE: The 4pm class is sold out! We have added a 3pm-3:45pm timeslot due to high demand! \nLink to register for 3pm class https://app.jackrabbitclass.com/regevent.asp?xID=7323089&orgid=543180&%20internal=1
URL:https://sweetmeadowfarm.com/event/friday-fun-mini-riders-1-17-25/
LOCATION:Sweet Meadow Farm
END:VEVENT
BEGIN:VEVENT
DTSTART;TZID=UTC:20241222T150000
DTEND;TZID=UTC:20241222T160000
DTSTAMP:20260423T204310
CREATED:20241212T184941Z
LAST-MODIFIED:20241212T184941Z
UID:6474-1734879600-1734883200@sweetmeadowfarm.com
SUMMARY:Meet Santa & Pony Rides
DESCRIPTION:
URL:https://sweetmeadowfarm.com/event/meet-santa-pony-rides/
LOCATION:Sweet Meadow Farm
CATEGORIES:Holiday Events
END:VEVENT
BEGIN:VEVENT
DTSTART;TZID=UTC:20241220T180000
DTEND;TZID=UTC:20241220T200000
DTSTAMP:20260423T204310
CREATED:20241108T202852Z
LAST-MODIFIED:20241115T154651Z
UID:6411-1734717600-1734724800@sweetmeadowfarm.com
SUMMARY:Kids Night Out
DESCRIPTION:  \nRegister Here!
URL:https://sweetmeadowfarm.com/event/kids-night-out/
LOCATION:Sweet Meadow Farm
CATEGORIES:Holiday Events
END:VEVENT
BEGIN:VEVENT
DTSTART;TZID=UTC:20241206T183000
DTEND;TZID=UTC:20241206T200000
DTSTAMP:20260423T204310
CREATED:20241108T203026Z
LAST-MODIFIED:20241108T203026Z
UID:6416-1733509800-1733515200@sweetmeadowfarm.com
SUMMARY:Wreath Making Workshop
DESCRIPTION:  \nRegister Here!
URL:https://sweetmeadowfarm.com/event/wreath-making-workshop/
LOCATION:Sweet Meadow Farm
CATEGORIES:Holiday Events
END:VEVENT
BEGIN:VEVENT
DTSTART;TZID=UTC:20241122T183000
DTEND;TZID=UTC:20241122T200000
DTSTAMP:20260423T204310
CREATED:20241030T201748Z
LAST-MODIFIED:20241030T201851Z
UID:6218-1732300200-1732305600@sweetmeadowfarm.com
SUMMARY:Pumpkin Floral Centerpiece Class
DESCRIPTION:Register Here!
URL:https://sweetmeadowfarm.com/event/pumpkin-floral-centerpiece-class/
LOCATION:Sweet Meadow Farm
CATEGORIES:Holiday Events
END:VEVENT
BEGIN:VEVENT
DTSTART;TZID=UTC:20241108T183000
DTEND;TZID=UTC:20241108T200000
DTSTAMP:20260423T204310
CREATED:20241030T201600Z
LAST-MODIFIED:20241030T201933Z
UID:6215-1731090600-1731096000@sweetmeadowfarm.com
SUMMARY:Adult's Night Out
DESCRIPTION:Register Here!
URL:https://sweetmeadowfarm.com/event/adults-night-out-2/
LOCATION:Sweet Meadow Farm
CATEGORIES:Date Night
END:VEVENT
BEGIN:VEVENT
DTSTART;TZID=UTC:20241027T100000
DTEND;TZID=UTC:20241027T120000
DTSTAMP:20260423T204310
CREATED:20240927T220647Z
LAST-MODIFIED:20240927T220647Z
UID:6094-1730023200-1730030400@sweetmeadowfarm.com
SUMMARY:Candy Hunt
DESCRIPTION:
URL:https://sweetmeadowfarm.com/event/candy-hunt/
LOCATION:Sweet Meadow Farm
END:VEVENT
BEGIN:VEVENT
DTSTART;TZID=UTC:20241011T183000
DTEND;TZID=UTC:20241011T200000
DTSTAMP:20260423T204310
CREATED:20241003T205332Z
LAST-MODIFIED:20241003T205332Z
UID:6102-1728671400-1728676800@sweetmeadowfarm.com
SUMMARY:Adult's Night Out
DESCRIPTION:
URL:https://sweetmeadowfarm.com/event/adults-night-out/
LOCATION:Sweet Meadow Farm
END:VEVENT
BEGIN:VEVENT
DTSTART;TZID=UTC:20240906T183000
DTEND;TZID=UTC:20240906T200000
DTSTAMP:20260423T204310
CREATED:20240809T193507Z
LAST-MODIFIED:20240810T184033Z
UID:6041-1725647400-1725652800@sweetmeadowfarm.com
SUMMARY:Sunset at Sweet Meadow Farm
DESCRIPTION:Register Here!
URL:https://sweetmeadowfarm.com/event/sunset-at-sweet-meadow-farm/
LOCATION:Sweet Meadow Farm
END:VEVENT
BEGIN:VEVENT
DTSTART;TZID=UTC:20240419T183000
DTEND;TZID=UTC:20240419T200000
DTSTAMP:20260423T204310
CREATED:20240406T134845Z
LAST-MODIFIED:20240406T134845Z
UID:5910-1713551400-1713556800@sweetmeadowfarm.com
SUMMARY:Plant & Paint Night
DESCRIPTION:  \nRegister Here!
URL:https://sweetmeadowfarm.com/event/plant-paint-night/
LOCATION:Sweet Meadow Farm
END:VEVENT
BEGIN:VEVENT
DTSTART;TZID=UTC:20240329T163000
DTEND;TZID=UTC:20240329T173000
DTSTAMP:20260423T204310
CREATED:20240302T152827Z
LAST-MODIFIED:20240302T152827Z
UID:5780-1711729800-1711733400@sweetmeadowfarm.com
SUMMARY:Bunny Day
DESCRIPTION:  \nRegister Here!
URL:https://sweetmeadowfarm.com/event/bunny-day-3/
LOCATION:Sweet Meadow Farm
CATEGORIES:Holiday Events
END:VEVENT
BEGIN:VEVENT
DTSTART;TZID=UTC:20240329T160000
DTEND;TZID=UTC:20240329T170000
DTSTAMP:20260423T204310
CREATED:20240302T152229Z
LAST-MODIFIED:20240302T152601Z
UID:5774-1711728000-1711731600@sweetmeadowfarm.com
SUMMARY:Bunny Day
DESCRIPTION:Register Here!
URL:https://sweetmeadowfarm.com/event/bunny-day-2/
LOCATION:Sweet Meadow Farm
END:VEVENT
BEGIN:VEVENT
DTSTART;TZID=UTC:20240329T153000
DTEND;TZID=UTC:20240329T163000
DTSTAMP:20260423T204310
CREATED:20240302T152041Z
LAST-MODIFIED:20240302T152700Z
UID:5771-1711726200-1711729800@sweetmeadowfarm.com
SUMMARY:Bunny Day
DESCRIPTION:  \nRegister Here!
URL:https://sweetmeadowfarm.com/event/bunny-day/
LOCATION:Sweet Meadow Farm
CATEGORIES:Holiday Events
END:VEVENT
BEGIN:VEVENT
DTSTART;TZID=UTC:20240315T183000
DTEND;TZID=UTC:20240315T200000
DTSTAMP:20260423T204310
CREATED:20240228T184234Z
LAST-MODIFIED:20240301T221658Z
UID:5604-1710527400-1710532800@sweetmeadowfarm.com
SUMMARY:Date Night at Sweet Meadow
DESCRIPTION:  \nRegister here!
URL:https://sweetmeadowfarm.com/event/date-night-at-sweet-meadow/
LOCATION:Sweet Meadow Farm
CATEGORIES:Date Night
END:VEVENT
BEGIN:VEVENT
DTSTART;TZID=UTC:20240315T150000
DTEND;TZID=UTC:20240315T160000
DTSTAMP:20260423T204310
CREATED:20240301T220859Z
LAST-MODIFIED:20240301T221547Z
UID:5762-1710514800-1710518400@sweetmeadowfarm.com
SUMMARY:Horseshoe Decorating Mini Riders
DESCRIPTION:  \nRegister Here!
URL:https://sweetmeadowfarm.com/event/horseshoe-decorating-mini-riders/
LOCATION:Sweet Meadow Farm
CATEGORIES:Mini Riders
END:VEVENT
END:VCALENDAR