BEGIN:VCALENDAR
VERSION:2.0
PRODID:-//Sweet Meadow Farm - Animal Food &amp; Hay, Childrens Programs and Horseback Riding - ECPv6.15.17.1//NONSGML v1.0//EN
CALSCALE:GREGORIAN
METHOD:PUBLISH
X-WR-CALNAME:Sweet Meadow Farm - Animal Food &amp; Hay, Childrens Programs and Horseback Riding
X-ORIGINAL-URL:https://sweetmeadowfarm.com
X-WR-CALDESC:Events for Sweet Meadow Farm - Animal Food &amp; Hay, Childrens Programs and Horseback Riding
REFRESH-INTERVAL;VALUE=DURATION:PT1H
X-Robots-Tag:noindex
X-PUBLISHED-TTL:PT1H
BEGIN:VTIMEZONE
TZID:UTC
BEGIN:STANDARD
TZOFFSETFROM:+0000
TZOFFSETTO:+0000
TZNAME:UTC
DTSTART:20240101T000000
END:STANDARD
END:VTIMEZONE
BEGIN:VEVENT
DTSTART;TZID=UTC:20250504T130000
DTEND;TZID=UTC:20250504T140000
DTSTAMP:20260424T094322
CREATED:20250410T204955Z
LAST-MODIFIED:20250410T204955Z
UID:6699-1746363600-1746367200@sweetmeadowfarm.com
SUMMARY:Blooms & Barnyard Buddies
DESCRIPTION:Celebrate Mother’s Day early at Sweet Meadow Farm! Build your own bouquet in a 16oz mason jar for yourself\, or as a gift! Come with friends as a mom day out\, or bring your mom for a unique experience! Class will be guided by Sue\, our floral designer at Sweet Meadow Feed & Grain. You’ll also get a chance to meet our animals such as our wallaby\, kittens\, mini horses\, and more! Bring your own gloves and clippers if you wish\, we will have some clippers available! Bring your own drinks!\nRain or Shine: The event will take place regardless of the weather\, we are an indoor facility\nPlease note: Flower varieties may vary on the day of the event based on seasonal availability!\nRegistration for the event will close on May 1st
URL:https://sweetmeadowfarm.com/event/blooms-barnyard-buddies/
LOCATION:Sweet Meadow Farm
END:VEVENT
END:VCALENDAR