BEGIN:VCALENDAR
VERSION:2.0
PRODID:-//Sweet Meadow Farm - Animal Food &amp; Hay, Childrens Programs and Horseback Riding - ECPv6.15.17.1//NONSGML v1.0//EN
CALSCALE:GREGORIAN
METHOD:PUBLISH
X-WR-CALNAME:Sweet Meadow Farm - Animal Food &amp; Hay, Childrens Programs and Horseback Riding
X-ORIGINAL-URL:https://sweetmeadowfarm.com
X-WR-CALDESC:Events for Sweet Meadow Farm - Animal Food &amp; Hay, Childrens Programs and Horseback Riding
REFRESH-INTERVAL;VALUE=DURATION:PT1H
X-Robots-Tag:noindex
X-PUBLISHED-TTL:PT1H
BEGIN:VTIMEZONE
TZID:UTC
BEGIN:STANDARD
TZOFFSETFROM:+0000
TZOFFSETTO:+0000
TZNAME:UTC
DTSTART:20240101T000000
END:STANDARD
END:VTIMEZONE
BEGIN:VEVENT
DTSTART;TZID=UTC:20250601T080000
DTEND;TZID=UTC:20250828T170000
DTSTAMP:20260424T051046
CREATED:20250602T170405Z
LAST-MODIFIED:20250602T170405Z
UID:6724-1748764800-1756400400@sweetmeadowfarm.com
SUMMARY:Summer Mini Riders
DESCRIPTION:This summer\, registration will be done per class\, and sign-ups are available on our events calendar. Spots are limited\, so be sure to register early to secure your place! \nClick here to view the calendar and register
URL:https://sweetmeadowfarm.com/event/summer-mini-riders/
LOCATION:Sweet Meadow Farm
END:VEVENT
BEGIN:VEVENT
DTSTART;TZID=UTC:20250802T100000
DTEND;TZID=UTC:20250802T124500
DTSTAMP:20260424T051046
CREATED:20250731T171050Z
LAST-MODIFIED:20250731T173150Z
UID:6763-1754128800-1754138700@sweetmeadowfarm.com
SUMMARY:Weekend Special Mini Riders Aug. 2nd
DESCRIPTION:**THIS IS A SPECIAL POP-UP CLASS ONLY WHEN WE HAVE AVAILABILITY**\nAt our 45 minute “mommy and me” style class adults and children learn how to handle and care for our animals together. We have a wide variety of over 100 animals that call Sweet Meadow Farm home. Our residents include a wallaby\, potbelly pigs\, goats\, rabbits\, an emu\, and more! This unforgettable experience also includes a hand-led pony ride\, feeding hay to our barnyard animals\, giving treats in the bird room\, and meeting the animals in the pet room. \nChildren must be under 45lbs to ride the Mini Horse\nMust be pre-registered\, no drop-ins allowed\nAges 6mos to 5yrs\nPlease do not show up more than 5 mins before class\nRegistration is for one child and one adult\, additional adults are $15/pp \n  \nPlease click the timeslot below you would like to register for to access the registration form:  \n10am-10:45am  \n11am-11:45am  \n12pm-12:45pm 
URL:https://sweetmeadowfarm.com/event/weekend-special-mini-riders-aug-2nd/
LOCATION:Sweet Meadow Farm
END:VEVENT
BEGIN:VEVENT
DTSTART;TZID=UTC:20250808T183000
DTEND;TZID=UTC:20250808T203000
DTSTAMP:20260424T051046
CREATED:20250626T213138Z
LAST-MODIFIED:20250626T213138Z
UID:6742-1754677800-1754685000@sweetmeadowfarm.com
SUMMARY:Adult's Night Out
DESCRIPTION:
URL:https://sweetmeadowfarm.com/event/adults-night-out-8/
LOCATION:Sweet Meadow Farm
END:VEVENT
END:VCALENDAR