BEGIN:VCALENDAR
VERSION:2.0
PRODID:-//Sweet Meadow Farm - Animal Food &amp; Hay, Childrens Programs and Horseback Riding - ECPv6.15.17.1//NONSGML v1.0//EN
CALSCALE:GREGORIAN
METHOD:PUBLISH
X-WR-CALNAME:Sweet Meadow Farm - Animal Food &amp; Hay, Childrens Programs and Horseback Riding
X-ORIGINAL-URL:https://sweetmeadowfarm.com
X-WR-CALDESC:Events for Sweet Meadow Farm - Animal Food &amp; Hay, Childrens Programs and Horseback Riding
REFRESH-INTERVAL;VALUE=DURATION:PT1H
X-Robots-Tag:noindex
X-PUBLISHED-TTL:PT1H
BEGIN:VTIMEZONE
TZID:UTC
BEGIN:STANDARD
TZOFFSETFROM:+0000
TZOFFSETTO:+0000
TZNAME:UTC
DTSTART:20240101T000000
END:STANDARD
END:VTIMEZONE
BEGIN:VEVENT
DTSTART;TZID=UTC:20251212T180000
DTEND;TZID=UTC:20251219T200000
DTSTAMP:20260423T221704
CREATED:20251110T193511Z
LAST-MODIFIED:20251110T193715Z
UID:6985-1765562400-1766174400@sweetmeadowfarm.com
SUMMARY:Kid's Night Out!
DESCRIPTION:Get ready for a fun-filled evening packed with animal encounters\, activities\, and new friends at Kids’ Night Out! This special event is the perfect chance for your little ones to enjoy an exciting night on the farm while you enjoy some free time! We are located only 10mins from the Natick Mall so take advantage of a night out on the town! \nKids will get to learn and experience unique hands on opportunities with over 50 animals in our fun\, holiday themed night! We will have holiday crafts\, animal activites\, and more! \n– Children must be at least 4yrs old to participate\n– Please bring a snack and drink\n– There will be no pony rides\n– $55/child \nClick HERE to register for Friday\, December 12th from 6pm-8pm \nClick HERE to register for Friday\, December 19th from 6pm-8pm
URL:https://sweetmeadowfarm.com/event/kids-night-out-2/
LOCATION:Sweet Meadow Farm
CATEGORIES:Holiday Events
END:VEVENT
BEGIN:VEVENT
DTSTART;TZID=UTC:20251212T183000
DTEND;TZID=UTC:20251212T203000
DTSTAMP:20260423T221704
CREATED:20251106T225357Z
LAST-MODIFIED:20251205T172253Z
UID:6966-1765564200-1765571400@sweetmeadowfarm.com
SUMMARY:Wreath Making Workshop
DESCRIPTION:Create a farm-fresh wreath to celebrate the holiday season! The class will be taught by Sue\, our very own floral designer from the Sweet Meadow Feed and Grain farmstand. After the class\, we will have a tour to meet over 50 unique animals! \nCLICK HERE TO REGISTER: https://app.jackrabbitclass.com/regevent.asp?xID=7904277&orgid=543180&%20internal=1
URL:https://sweetmeadowfarm.com/event/wreath-making-workshop-2/
LOCATION:Sweet Meadow Farm
END:VEVENT
BEGIN:VEVENT
DTSTART;TZID=UTC:20251221T100000
DTEND;TZID=UTC:20251221T140000
DTSTAMP:20260423T221704
CREATED:20251110T192906Z
LAST-MODIFIED:20251220T193859Z
UID:6981-1766311200-1766325600@sweetmeadowfarm.com
SUMMARY:Santa Claus & Pony Rides
DESCRIPTION:Santa is coming to Sweet Meadow and bringing his elf ponies on Sunday Dec. 21st! Meet Santa Claus – Take a special photo with the jolly man himself! Santa will be on hand to hear your holiday wishes\, spread some Christmas cheer\, and even share a sweet treat with the little ones. Pony Ride on an Elf Pony – Hop aboard one of our adorable ponies who will be dressed up for the holidays! \n$15/child when registered online\n$25/child cash at the door \n**REGSITRATION IS FOR A ONE HOUR TIMESLOT**\nPlease arrive at the timeslot you registered for. Each timeslot group will begin in our Birthday Barn by our playground to meet Santa & Mrs. Claus\, and then will finish with elf Pony Rides in our Indoor Riding Arena! \nTimeslots (click your preferred timeslot to register):\n10am-11am SOLD OUT \n 11am-12pm SOLD OUT  \n12/20 11:30AM UPDATE** WE HAVE ADDED TWO MORE TIMESLOTS DUE TO HIGH DEMAND** \n12:30PM-1:30PM CLICK LINK TO REGISTER r https://app.jackrabbitclass.com/regevent.asp?xID=7930454&orgid=543180&%20internal=1 \n 
URL:https://sweetmeadowfarm.com/event/santa-claus-pony-rides/
LOCATION:Sweet Meadow Farm
END:VEVENT
BEGIN:VEVENT
DTSTART;TZID=UTC:20251227T110000
DTEND;TZID=UTC:20251228T160000
DTSTAMP:20260423T221704
CREATED:20251125T220453Z
LAST-MODIFIED:20251125T220521Z
UID:7011-1766833200-1766937600@sweetmeadowfarm.com
SUMMARY:Pony Package *holiday gift experience*
DESCRIPTION:Looking for the perfect holiday surprise? Treat your child to a magical Pony Experience!\nEach 30-minute session offers a cozy\, small-group visit where kids will learn how to groom a pony\, create a fun take-home craft\, and enjoy a delightful pony ride! \n$35 per child – includes a printable PDF certificate so you can wrap it up as the perfect holiday present! \n**REGISTRATION RESERVES A 30MIN TIMESLOT*** \nTo register: View our events calendar and reserve a space in any of the 30min timeslots on the Dec. 27th or 28th! \nPlease contact our Event Coordinator\, Hannah\, at 508-654-5958 or bday@sweetmeadowfarm.com for any questions!
URL:https://sweetmeadowfarm.com/event/pony-package-a-holiday-gift-experience/
LOCATION:Sweet Meadow Farm
END:VEVENT
END:VCALENDAR